BEGIN:VCALENDAR
VERSION:2.0
PRODID:-//Noica - ECPv5.12.2//NONSGML v1.0//EN
CALSCALE:GREGORIAN
METHOD:PUBLISH
X-WR-CALNAME:Noica
X-ORIGINAL-URL:https://noica.org
X-WR-CALDESC:Events for Noica
REFRESH-INTERVAL;VALUE=DURATION:PT1H
X-Robots-Tag:noindex
X-PUBLISHED-TTL:PT1H
BEGIN:VTIMEZONE
TZID:America/New_York
BEGIN:DAYLIGHT
TZOFFSETFROM:-0500
TZOFFSETTO:-0400
TZNAME:EDT
DTSTART:20210314T070000
END:DAYLIGHT
BEGIN:STANDARD
TZOFFSETFROM:-0400
TZOFFSETTO:-0500
TZNAME:EST
DTSTART:20211107T060000
END:STANDARD
END:VTIMEZONE
BEGIN:VEVENT
DTSTART;TZID=America/New_York:20210114T193000
DTEND;TZID=America/New_York:20210114T203000
DTSTAMP:20260422T075432
CREATED:20210119T025451Z
LAST-MODIFIED:20210204T015256Z
UID:1667-1610652600-1610656200@noica.org
SUMMARY:NOICA Talks - Dr. Craig Considine - The Humanity of Muhammad: A Christian View
DESCRIPTION:Click to Watch
URL:https://noica.org/event/noica-talks-dr-craig-considine-the-humanity-of-muhammad-a-christian-view/
ATTACH;FMTTYPE=image/jpeg:https://noica.org/wp-content/uploads/2021/01/Noica-Talks-1024x576-1.jpg
END:VEVENT
END:VCALENDAR