BEGIN:VCALENDAR
VERSION:2.0
PRODID:-//Noica - ECPv5.12.2//NONSGML v1.0//EN
CALSCALE:GREGORIAN
METHOD:PUBLISH
X-WR-CALNAME:Noica
X-ORIGINAL-URL:https://noica.org
X-WR-CALDESC:Events for Noica
REFRESH-INTERVAL;VALUE=DURATION:PT1H
X-Robots-Tag:noindex
X-PUBLISHED-TTL:PT1H
BEGIN:VTIMEZONE
TZID:America/New_York
BEGIN:DAYLIGHT
TZOFFSETFROM:-0500
TZOFFSETTO:-0400
TZNAME:EDT
DTSTART:20230312T070000
END:DAYLIGHT
BEGIN:STANDARD
TZOFFSETFROM:-0400
TZOFFSETTO:-0500
TZNAME:EST
DTSTART:20231105T060000
END:STANDARD
BEGIN:DAYLIGHT
TZOFFSETFROM:-0500
TZOFFSETTO:-0400
TZNAME:EDT
DTSTART:20240310T070000
END:DAYLIGHT
BEGIN:STANDARD
TZOFFSETFROM:-0400
TZOFFSETTO:-0500
TZNAME:EST
DTSTART:20241103T060000
END:STANDARD
BEGIN:DAYLIGHT
TZOFFSETFROM:-0500
TZOFFSETTO:-0400
TZNAME:EDT
DTSTART:20250309T070000
END:DAYLIGHT
BEGIN:STANDARD
TZOFFSETFROM:-0400
TZOFFSETTO:-0500
TZNAME:EST
DTSTART:20251102T060000
END:STANDARD
END:VTIMEZONE
BEGIN:VEVENT
DTSTART;TZID=America/New_York:20250501T183000
DTEND;TZID=America/New_York:20250501T203000
DTSTAMP:20260421T055106
CREATED:20250331T232218Z
LAST-MODIFIED:20250405T174323Z
UID:3383-1746124200-1746131400@noica.org
SUMMARY:Annual Abrahamic Traditions Dinner
DESCRIPTION:You are cordially invited to join us for a heartfelt dinner\, celebrating the spirit of togetherness and unity within the Abrahamic traditions.\n		\n                \n            \n                                    ABRAHAMIC-TRADITIONS-DINNER.pdf \n                \n                                    Download File\n                \n                	                View Fullscreen\n                \n            \n            \n                ×
URL:https://noica.org/event/annual-abrahamic-traditions-dinner/
LOCATION:John Knox Presbyterian Church\, 25200 Lorain Road\, North Olmsted\, 44070\, United States
CATEGORIES:Abrahamic Dinners
END:VEVENT
BEGIN:VEVENT
DTSTART;TZID=America/New_York:20240502T183000
DTEND;TZID=America/New_York:20240502T203000
DTSTAMP:20260421T055106
CREATED:20240201T051730Z
LAST-MODIFIED:20240319T022249Z
UID:2475-1714674600-1714681800@noica.org
SUMMARY:2024 Abrahamic Traditions Dinner
DESCRIPTION:🌟✨ Invitation to 2024 Abrahamic Traditions Dinner Event ✨🌟 \nYou are cordially invited to join us for a heartfelt dinner\, celebrating the spirit of togetherness and unity within the Abrahamic traditions. \nThis evening promises to be a beautiful convergence of faith\, culture\, and friendship\, where we can reflect on our shared values of compassion\, generosity\, and peace. \nTogether\, we will explore answers to “how to respond to conflict in our personal lives and communities”\, drawing wisdom from the teachings of Islam\, Christianity\, and Judaism. \nWe are honored to have distinguished speakers from each tradition: \nDr. Noah Bickart – represents Judaism\nJack\, Joseph & Morton Mandel Chair in Jewish Studies at John Carrol University \nRev. Dr. Tom MacMillan – represents Christianity\nSenior Pastor at John Knox Presbyterian Church \nDr. Zeki Saritoprak represents Islam\nDirector of the Bediuzzaman Said Nursi Chair in Islamic Studies at John Carroll University \nWhether you come from Islam\, Christianity\, or Judaism traditions or wish to join in the spirit of fellowship\, your presence will enrich our gathering. \nLet us forge bonds of understanding and harmony\, honoring the diversity that strengthens our communities. \nPlease join us for an unforgettable evening of connection and joy. \nEvent Details \nDate: Thursday\, May 2\, 2024 \nTime: 6:30 PM – 8:30 PM \nVenue: John Knox Presbyterian Church \nAddress: 25200 Lorain Road North Olmsted\, OH 44070 \n– Childcare will be provided.   \nClick here to RSVP\nFor questions and inquiries\, please get in touch with info@noica.org \n#UnityInDiversity
URL:https://noica.org/event/2024-abrahamic-traditions-dinner/
LOCATION:John Knox Presbyterian Church\, 25200 Lorain Road\, North Olmsted\, 44070\, United States
CATEGORIES:Abrahamic Dinners
ORGANIZER;CN="NOICA%20Outreach":MAILTO:info@noica.org
END:VEVENT
BEGIN:VEVENT
DTSTART;TZID=America/New_York:20230302T183000
DTEND;TZID=America/New_York:20230302T210000
DTSTAMP:20260421T055106
CREATED:20230113T041853Z
LAST-MODIFIED:20230228T021804Z
UID:2246-1677781800-1677790800@noica.org
SUMMARY:Abrahamic Dinner at John Knox Presbyterian Church
DESCRIPTION:Come one\, come all to our NOICA Abrahamic Dinner at John Knox Presbyterian Church! \nThis is an opportunity for people of all faith backgrounds to come together and share a meal in the spirit of community and understanding. The dinner will start at 6:30 pm. We will be providing a delicious meal. This is a great opportunity to meet new people\, learn about different cultures and religions\, and have meaningful conversations. \nAll are welcome\, regardless of their background or belief system. We hope to see you there! \n  \nPlease RSVP by Friday\, February 24th to info@noica.org \n  \nEvent Flyer \nAbrahamic Traditions Dinner Flyer
URL:https://noica.org/event/abrahamic-dinner-at-john-knox-presbyterian-church/
LOCATION:John Knox Presbyterian Church\, 25200 Lorain Road\, North Olmsted\, 44070\, United States
CATEGORIES:Abrahamic Dinners
END:VEVENT
END:VCALENDAR