BEGIN:VCALENDAR
VERSION:2.0
PRODID:-//Noica - ECPv5.12.2//NONSGML v1.0//EN
CALSCALE:GREGORIAN
METHOD:PUBLISH
X-WR-CALNAME:Noica
X-ORIGINAL-URL:https://noica.org
X-WR-CALDESC:Events for Noica
REFRESH-INTERVAL;VALUE=DURATION:PT1H
X-Robots-Tag:noindex
X-PUBLISHED-TTL:PT1H
BEGIN:VTIMEZONE
TZID:America/New_York
BEGIN:DAYLIGHT
TZOFFSETFROM:-0500
TZOFFSETTO:-0400
TZNAME:EDT
DTSTART:20240310T070000
END:DAYLIGHT
BEGIN:STANDARD
TZOFFSETFROM:-0400
TZOFFSETTO:-0500
TZNAME:EST
DTSTART:20241103T060000
END:STANDARD
END:VTIMEZONE
BEGIN:VEVENT
DTSTART;TZID=America/New_York:20240403T170000
DTEND;TZID=America/New_York:20240403T190000
DTSTAMP:20260422T040318
CREATED:20240201T051302Z
LAST-MODIFIED:20240201T051302Z
UID:2471-1712163600-1712170800@noica.org
SUMMARY:Iftar & Cooking Club at NOICA Center
DESCRIPTION:🌙✨ Invitation to Iftar & Cooking Club at NOICA Center ✨🌙 \nDear Culinary Enthusiasts\, \nAs the holy month of Ramadan approaches\, NOICA Center is thrilled to extend an invitation to our Iftar & Cooking Club event. Join us for an evening of culinary exploration\, cultural exchange\, and the joyous breaking of the fast in the company of fellow food enthusiasts. \nWhat to Look Forward To: \n\n🍽️ Cooking Adventure: Embark on a culinary journey with our Cooking Club\, where we’ll explore and create delectable dishes inspired by the diverse flavors of Ramadan.\n🌙 Iftar Celebration: Experience the communal spirit of Iftar as we come together to break our fasts with a delightful meal prepared by our cooking enthusiasts.\n🤝 Culinary Exchange: Engage in lively discussions and share your passion for cooking with fellow club members\, fostering a sense of community and friendship.\n🙏 Cultural Connections: Immerse yourself in the cultural richness of Ramadan as we celebrate diversity through food\, conversation\, and shared experiences.\n\nDress Code: Come in comfortable attire\, ready to explore the world of flavors. Feel free to bring your apron and a sense of culinary adventure! \nCOVID-19 Considerations: Your health and safety are our top priorities. We will strictly adhere to all local health guidelines to ensure a safe and enjoyable gathering for all participants. \nLet’s celebrate the spirit of Ramadan through the art of cooking and the joy of breaking bread together. Whether you’re a seasoned chef or a novice in the kitchen\, everyone is welcome to join in the culinary festivities.
URL:https://noica.org/event/iftar-cooking-club-at-noica-center/
LOCATION:NOICA Center – Lakewood\, 13303 Madison Ave\, Lakewood\, OH\, 44107\, United States
CATEGORIES:Cooking Class,Iftar Dinners
ORGANIZER;CN="NOICA%20Outreach":MAILTO:info@noica.org
END:VEVENT
BEGIN:VEVENT
DTSTART;TZID=America/New_York:20240413T100000
DTEND;TZID=America/New_York:20240413T130000
DTSTAMP:20260422T040318
CREATED:20230913T172817Z
LAST-MODIFIED:20230913T172817Z
UID:2413-1713002400-1713013200@noica.org
SUMMARY:Cooking Club at St. Paschal Baylon
DESCRIPTION:Join our cooking club\, where we celebrate the beautiful tapestry of world cuisines and promote cultural richness\, sharing\, and dialogue through the magic of food. We believe that every meal tells a story\, and in our kitchen\, you’ll have the opportunity to explore diverse culinary traditions from around the globe. \nWhether you’re a seasoned chef or a beginner in the world of cooking\, our club is an inclusive and welcoming space for all. Let’s come together\, chop\, sauté\, and savor the flavors of different cultures\, all while forging meaningful connections and engaging in enriching conversations. \nJoin us as we embark on a flavorful journey\, where every dish is a passport to understanding and appreciation. Your taste buds and your heart will thank you!
URL:https://noica.org/event/cooking-club-at-st-paschal-baylon-2/
LOCATION:St. Paschal Baylon Church\, 5384 Wilson Mills Rd\, Highland Heights\, OH\, 44143\, United States
CATEGORIES:Cooking Class
ORGANIZER;CN="NOICA%20Outreach":MAILTO:info@noica.org
END:VEVENT
BEGIN:VEVENT
DTSTART;TZID=America/New_York:20240413T100000
DTEND;TZID=America/New_York:20240413T130000
DTSTAMP:20260422T040318
CREATED:20240201T051430Z
LAST-MODIFIED:20240201T051430Z
UID:2473-1713002400-1713013200@noica.org
SUMMARY:Cooking Club at St. Paschal Baylon Church
DESCRIPTION:Join our cooking club\, where we celebrate the beautiful tapestry of world cuisines and promote cultural richness\, sharing\, and dialogue through the magic of food. \nWe believe that every meal tells a story\, and in our kitchen\, you’ll have the opportunity to explore diverse culinary traditions from around the globe. Whether you’re a seasoned chef or a beginner in the world of cooking\, our club is an inclusive and welcoming space for all. \nLet’s come together\, chop\, sauté\, and savor the flavors of different cultures\, all while forging meaningful connections and engaging in enriching conversations. \nJoin us as we embark on a flavorful journey\, where every dish is a passport to understanding and appreciation. Your taste buds and your heart will thank you!
URL:https://noica.org/event/cooking-club-at-st-paschal-baylon-church/
LOCATION:St. Paschal Baylon Church\, 5384 Wilson Mills Rd\, Highland Heights\, OH\, 44143\, United States
CATEGORIES:Cooking Class
ORGANIZER;CN="NOICA%20Outreach":MAILTO:info@noica.org
END:VEVENT
END:VCALENDAR