BEGIN:VCALENDAR
VERSION:2.0
PRODID:-//Noica - ECPv5.12.2//NONSGML v1.0//EN
CALSCALE:GREGORIAN
METHOD:PUBLISH
X-WR-CALNAME:Noica
X-ORIGINAL-URL:https://noica.org
X-WR-CALDESC:Events for Noica
REFRESH-INTERVAL;VALUE=DURATION:PT1H
X-Robots-Tag:noindex
X-PUBLISHED-TTL:PT1H
BEGIN:VTIMEZONE
TZID:America/New_York
BEGIN:DAYLIGHT
TZOFFSETFROM:-0500
TZOFFSETTO:-0400
TZNAME:EDT
DTSTART:20240310T070000
END:DAYLIGHT
BEGIN:STANDARD
TZOFFSETFROM:-0400
TZOFFSETTO:-0500
TZNAME:EST
DTSTART:20241103T060000
END:STANDARD
END:VTIMEZONE
BEGIN:VEVENT
DTSTART;TZID=America/New_York:20240601T100000
DTEND;TZID=America/New_York:20240601T130000
DTSTAMP:20260422T012922
CREATED:20230913T172940Z
LAST-MODIFIED:20240522T182100Z
UID:2415-1717236000-1717246800@noica.org
SUMMARY:Cooking Club at St. Paschal Baylon
DESCRIPTION:CLICK HERE FOR THE RSVP \nJoin our cooking club\, where we celebrate the beautiful tapestry of world cuisines and promote cultural richness\, sharing\, and dialogue through the magic of food. We believe that every meal tells a story\, and in our kitchen\, you’ll have the opportunity to explore diverse culinary traditions from around the globe. \nWhether you’re a seasoned chef or a beginner in the world of cooking\, our club is an inclusive and welcoming space for all. Let’s come together\, chop\, sauté\, and savor the flavors of different cultures\, all while forging meaningful connections and engaging in enriching conversations. \nJoin us as we embark on a flavorful journey\, where every dish is a passport to understanding and appreciation. Your taste buds and your heart will thank you!
URL:https://noica.org/event/cooking-club-at-st-paschal-baylon-3/
LOCATION:St. Paschal Baylon Church\, 5384 Wilson Mills Rd\, Highland Heights\, OH\, 44143\, United States
CATEGORIES:Cooking Class
ORGANIZER;CN="NOICA%20Outreach":MAILTO:info@noica.org
END:VEVENT
END:VCALENDAR