BEGIN:VCALENDAR
VERSION:2.0
PRODID:-//Noica - ECPv5.12.2//NONSGML v1.0//EN
CALSCALE:GREGORIAN
METHOD:PUBLISH
X-WR-CALNAME:Noica
X-ORIGINAL-URL:https://noica.org
X-WR-CALDESC:Events for Noica
REFRESH-INTERVAL;VALUE=DURATION:PT1H
X-Robots-Tag:noindex
X-PUBLISHED-TTL:PT1H
BEGIN:VTIMEZONE
TZID:America/New_York
BEGIN:DAYLIGHT
TZOFFSETFROM:-0500
TZOFFSETTO:-0400
TZNAME:EDT
DTSTART:20240310T070000
END:DAYLIGHT
BEGIN:STANDARD
TZOFFSETFROM:-0400
TZOFFSETTO:-0500
TZNAME:EST
DTSTART:20241103T060000
END:STANDARD
END:VTIMEZONE
BEGIN:VEVENT
DTSTART;TZID=America/New_York:20240502T180000
DTEND;TZID=America/New_York:20240502T200000
DTSTAMP:20260422T041116
CREATED:20240201T051858Z
LAST-MODIFIED:20240201T051858Z
UID:2477-1714672800-1714680000@noica.org
SUMMARY:Cooking Club at John Knox Presbyterian Church
DESCRIPTION:Join our cooking club\, where we celebrate the beautiful tapestry of world cuisines and promote cultural richness\, sharing\, and dialogue through the magic of food. \nWe believe that every meal tells a story\, and in our kitchen\, you’ll have the opportunity to explore diverse culinary traditions from around the globe. Whether you’re a seasoned chef or a beginner in the world of cooking\, our club is an inclusive and welcoming space for all. \nLet’s come together\, chop\, sauté\, and savor the flavors of different cultures\, all while forging meaningful connections and engaging in enriching conversations. \nJoin us as we embark on a flavorful journey\, where every dish is a passport to understanding and appreciation. Your taste buds and your heart will thank you!
URL:https://noica.org/event/cooking-club-at-john-knox-presbyterian-church-2/
LOCATION:John Knox Presbyterian Church\, 25200 Lorain Road\, North Olmsted\, 44070\, United States
CATEGORIES:Cooking Class
ORGANIZER;CN="NOICA%20Outreach":MAILTO:info@noica.org
END:VEVENT
END:VCALENDAR