BEGIN:VCALENDAR
VERSION:2.0
PRODID:-//Noica - ECPv5.12.2//NONSGML v1.0//EN
CALSCALE:GREGORIAN
METHOD:PUBLISH
X-WR-CALNAME:Noica
X-ORIGINAL-URL:https://noica.org
X-WR-CALDESC:Events for Noica
REFRESH-INTERVAL;VALUE=DURATION:PT1H
X-Robots-Tag:noindex
X-PUBLISHED-TTL:PT1H
BEGIN:VTIMEZONE
TZID:America/New_York
BEGIN:DAYLIGHT
TZOFFSETFROM:-0500
TZOFFSETTO:-0400
TZNAME:EDT
DTSTART:20240310T070000
END:DAYLIGHT
BEGIN:STANDARD
TZOFFSETFROM:-0400
TZOFFSETTO:-0500
TZNAME:EST
DTSTART:20241103T060000
END:STANDARD
END:VTIMEZONE
BEGIN:VEVENT
DTSTART;TZID=America/New_York:20241013T110000
DTEND;TZID=America/New_York:20241013T130000
DTSTAMP:20260419T132431
CREATED:20240913T121513Z
LAST-MODIFIED:20240913T122120Z
UID:2863-1728817200-1728824400@noica.org
SUMMARY:Noah’s Pudding: A Taste of Unity – Celebrating Cultures Through Shared Delights
DESCRIPTION:Sharing Noah’s Pudding\, a symbol of peace and community.
URL:https://noica.org/event/noahs-pudding-2/
LOCATION:Pioneer Memorial Presbyterian Church\, 35100 Solon Rd\, Solon\, OH\, 44139\, United States
CATEGORIES:Noah’s Pudding
END:VEVENT
BEGIN:VEVENT
DTSTART;TZID=America/New_York:20240923T130000
DTEND;TZID=America/New_York:20240923T150000
DTSTAMP:20260419T132431
CREATED:20240924T173044Z
LAST-MODIFIED:20240924T173044Z
UID:3015-1727096400-1727103600@noica.org
SUMMARY:Noah’s Pudding: A Taste of Unity – Celebrating Cultures Through Shared Delights
DESCRIPTION:Sharing Noah’s Pudding\, a symbol of peace and community.
URL:https://noica.org/event/noahs-pudding-a-taste-of-unity-celebrating-cultures-through-shared-delights-2/
LOCATION:Horizon Science A. of Lorain\, 760 Tower Blvd\, Lorain\, OH\, 44052\, United States
CATEGORIES:Noah’s Pudding
END:VEVENT
BEGIN:VEVENT
DTSTART;TZID=America/New_York:20240922T110000
DTEND;TZID=America/New_York:20240922T120000
DTSTAMP:20260419T132431
CREATED:20240915T015101Z
LAST-MODIFIED:20240915T015101Z
UID:2916-1727002800-1727006400@noica.org
SUMMARY:Noah’s Pudding: A Taste of Unity – Celebrating Cultures Through Shared Delights
DESCRIPTION:Sharing Noah’s Pudding\, a symbol of peace and community.
URL:https://noica.org/event/noahs-pudding-a-taste-of-unity-celebrating-cultures-through-shared-delights/
LOCATION:John Knox Presbyterian Church\, 25200 Lorain Road\, North Olmsted\, 44070\, United States
CATEGORIES:Noah’s Pudding
END:VEVENT
BEGIN:VEVENT
DTSTART;TZID=America/New_York:20240915T110000
DTEND;TZID=America/New_York:20240915T130000
DTSTAMP:20260419T132431
CREATED:20240912T144327Z
LAST-MODIFIED:20240913T122128Z
UID:2857-1726398000-1726405200@noica.org
SUMMARY:Noah’s Pudding: A Taste of Unity – Celebrating Cultures Through Shared Delights
DESCRIPTION:Sharing Noah’s Pudding\, a symbol of peace and community.
URL:https://noica.org/event/noahs-pudding/
LOCATION:Resurrection Church\, 32001 Cannon Rd\, Solon\, OH\, 44139\, United States
CATEGORIES:Noah’s Pudding
END:VEVENT
END:VCALENDAR