BEGIN:VCALENDAR
VERSION:2.0
PRODID:-//Noica - ECPv5.12.2//NONSGML v1.0//EN
CALSCALE:GREGORIAN
METHOD:PUBLISH
X-WR-CALNAME:Noica
X-ORIGINAL-URL:https://noica.org
X-WR-CALDESC:Events for Noica
REFRESH-INTERVAL;VALUE=DURATION:PT1H
X-Robots-Tag:noindex
X-PUBLISHED-TTL:PT1H
BEGIN:VTIMEZONE
TZID:America/New_York
BEGIN:DAYLIGHT
TZOFFSETFROM:-0500
TZOFFSETTO:-0400
TZNAME:EDT
DTSTART:20220313T070000
END:DAYLIGHT
BEGIN:STANDARD
TZOFFSETFROM:-0400
TZOFFSETTO:-0500
TZNAME:EST
DTSTART:20221106T060000
END:STANDARD
END:VTIMEZONE
BEGIN:VEVENT
DTSTART;TZID=America/New_York:20221120T130000
DTEND;TZID=America/New_York:20221120T151500
DTSTAMP:20260420T102401
CREATED:20221111T142704Z
LAST-MODIFIED:20221111T142758Z
UID:2197-1668949200-1668957300@noica.org
SUMMARY:Tea Time for Peace
DESCRIPTION:An Interfaith Community Dialogue with a focus on getting to know your Muslim neighbor \n\n\n\n\nSouthwest Unitarian Universalist Church and The Ummah Center invite you to share in conversation with people of different belief systems\, ethnicities\, racial backgrounds\, and cultures. Enjoy a cup of tea and light refreshments. Engage in honest dialogue in a nonjudgmental\, respectful environment in which each person has an opportunity to listen and to be heard. \nTea Time for Peace Flyer \n\n 
URL:https://noica.org/event/tea-time-for-peace-2/
LOCATION:Southwest Unitarian Universalist Church\, 6320 Royalton Road\, North Royalton\, OH\, 44133\, United States
CATEGORIES:Tea Time for Peace
ORGANIZER;CN="NOICA%20Outreach":MAILTO:info@noica.org
END:VEVENT
BEGIN:VEVENT
DTSTART;TZID=America/New_York:20221013T190000
DTEND;TZID=America/New_York:20221013T210000
DTSTAMP:20260420T102401
CREATED:20221005T032604Z
LAST-MODIFIED:20221005T032604Z
UID:1864-1665687600-1665694800@noica.org
SUMMARY:Tea Time for Peace
DESCRIPTION:We invite you to share in conversation with people of different belief systems\, ethnicities\, racial backgrounds\, and cultures. Enjoy a cup of tea and light refreshments. Engage in an honest dialog in a nonjudgmental\, respectful environment in which each person has an opportunity to listen and to be heard.
URL:https://noica.org/event/tea-time-for-peace/
LOCATION:Pioneer Memorial Presbyterian Church\, 35100 Solon Rd\, Solon\, OH\, 44139\, United States
CATEGORIES:Tea Time for Peace
ORGANIZER;CN="NOICA%20Outreach":MAILTO:info@noica.org
END:VEVENT
END:VCALENDAR