BEGIN:VCALENDAR
VERSION:2.0
PRODID:-//Noica - ECPv5.12.2//NONSGML v1.0//EN
CALSCALE:GREGORIAN
METHOD:PUBLISH
X-WR-CALNAME:Noica
X-ORIGINAL-URL:https://noica.org
X-WR-CALDESC:Events for Noica
REFRESH-INTERVAL;VALUE=DURATION:PT1H
X-Robots-Tag:noindex
X-PUBLISHED-TTL:PT1H
BEGIN:VTIMEZONE
TZID:America/New_York
BEGIN:DAYLIGHT
TZOFFSETFROM:-0500
TZOFFSETTO:-0400
TZNAME:EDT
DTSTART:20210314T070000
END:DAYLIGHT
BEGIN:STANDARD
TZOFFSETFROM:-0400
TZOFFSETTO:-0500
TZNAME:EST
DTSTART:20211107T060000
END:STANDARD
END:VTIMEZONE
BEGIN:VEVENT
DTSTART;TZID=America/New_York:20210401T193000
DTEND;TZID=America/New_York:20210401T203000
DTSTAMP:20260422T024846
CREATED:20210204T012120Z
LAST-MODIFIED:20210509T210704Z
UID:1686-1617305400-1617309000@noica.org
SUMMARY:NOICA Talks 2 - The Covid-19 Effect on Women in U.S.
DESCRIPTION:NOICA Talks 2 – The Covid-19 Effect on Women in U.S. \nSpeaker:\nElizabeth Cusma\nProgram Director\, Global Cleveland
URL:https://noica.org/event/noica-talks/
ATTACH;FMTTYPE=image/jpeg:https://noica.org/wp-content/uploads/2021/05/The-Covid-19-Effect-on-Women-in-the-U-2-1-scaled.jpg
END:VEVENT
END:VCALENDAR